BEGIN:VCALENDAR
VERSION:2.0
PRODID:-//wp-events-plugin.com//7.2.3.1//EN
TZID:America/Chicago
X-WR-TIMEZONE:America/Chicago
BEGIN:VEVENT
UID:221@faithprespca.org
DTSTART;TZID=America/Chicago:20240803T091500
DTEND;TZID=America/Chicago:20240803T101500
DTSTAMP:20240324T031534Z
URL:https://www.faithprespca.org/events/mens-book-study-mere-christianity-
 5/
SUMMARY:Men's Book Study - Mere Christianity
DESCRIPTION:\n\n\n\nMeets in the Commons Area\n\n\n\n\n
CATEGORIES:Book Study
END:VEVENT
BEGIN:VTIMEZONE
TZID:America/Chicago
X-LIC-LOCATION:America/Chicago
BEGIN:DAYLIGHT
DTSTART:20240310T030000
TZOFFSETFROM:-0600
TZOFFSETTO:-0500
TZNAME:CDT
END:DAYLIGHT
END:VTIMEZONE
END:VCALENDAR